Workbook

Sheet WebSite Import
A1: name | B1: description | C1: address1 | D1: address2 | E1: zip | F1: city | G1: region | H1: country | I1: telephone | J1: mobile | K1: fax | L1: email | M1: website | N1: premium | O1: ranking | P1: icon | Q1: lat | R1: lng | S1: Monday_open | T1: Monday_close | U1: Tuesday_open | V1: Tuesday_close | W1: Wednesday_open | X1: Wednesday_close | Y1: Thursday_open | Z1: Thursday_close | AA1: Friday_open | AB1: Friday_close | AC1: Saturday_open | AD1: Saturday_close | AE1: Sunday_open | AF1: Sunday_close
A2: ='Hubspot Export'!B2 -> abraxas Verlag GmbH | B2: =A2 -> abraxas Verlag GmbH | C2: ='Hubspot Export'!E2 -> Grapengiesserstrasse. 4 | D2: ='Hubspot Export'!F2 -> 0 | E2: ='Hubspot Export'!I2 -> 21335 | F2: ='Hubspot Export'!G2 -> Lüneburg | G2: ='Hubspot Export'!H2 -> 0 | H2: =LOOKUP('Hubspot Export'!J2,'Country Map'!$B$2:$B$31,'Country Map'!$A$2:$A$31) -> DE | I2: ='Hubspot Export'!L2 -> 04131 2 66 66 - 0 | L2: ='Hubspot Export'!K2 -> info@braxas.de | M2: ='Hubspot Export'!C2 -> www.braxas.de | N2: 0 | O2: 10 | S2: 08:00 | T2: 17:00 | U2: 08:00 | V2: 17:00 | W2: 08:00 | X2: 17:00 | Y2: 08:00 | Z2: 17:00 | AA2: 08:00 | AB2: 17:00 | AC2: 08:00 | AD2: 17:00 | AE2: 08:00 | AF2: 17:00
A3: ='Hubspot Export'!B3 -> ABZ INFORMATIQUE | B3: =A3 -> ABZ INFORMATIQUE | C3: ='Hubspot Export'!E3 -> 5 allée des Roses | D3: ='Hubspot Export'!F3 -> 0 | E3: ='Hubspot Export'!I3 -> 92350 | F3: ='Hubspot Export'!G3 -> Le Plessis Robinson | G3: ='Hubspot Export'!H3 -> 0 | H3: =LOOKUP('Hubspot Export'!J3,'Country Map'!$B$2:$B$31,'Country Map'!$A$2:$A$31) -> FR | I3: ='Hubspot Export'!L3 -> +33 652636003 | L3: ='Hubspot Export'!K3 -> 0 | M3: ='Hubspot Export'!C3 -> www.abz-informatique.com
A4: ='Hubspot Export'!B4 -> ACENTO | B4: =A4 -> ACENTO | C4: ='Hubspot Export'!E4 -> ul. Biały Kamień 5 | D4: ='Hubspot Export'!F4 -> 0 | E4: ='Hubspot Export'!I4 -> 02-593 | F4: ='Hubspot Export'!G4 -> Warszawa | G4: ='Hubspot Export'!H4 -> 0 | H4: =LOOKUP('Hubspot Export'!J4,'Country Map'!$B$2:$B$31,'Country Map'!$A$2:$A$31) -> PL | I4: ='Hubspot Export'!L4 -> +48 22 213 10 85 | L4: ='Hubspot Export'!K4 -> 0 | M4: ='Hubspot Export'!C4 -> www.acento.pl
A5: ='Hubspot Export'!B5 -> actBIG IT-Solutions | B5: =A5 -> actBIG IT-Solutions | C5: ='Hubspot Export'!E5 -> Weipertstrasse, 8-10 | D5: ='Hubspot Export'!F5 -> 0 | E5: ='Hubspot Export'!I5 -> 74076 | F5: ='Hubspot Export'!G5 -> Heilbronn | G5: ='Hubspot Export'!H5 -> 0 | H5: =LOOKUP('Hubspot Export'!J5,'Country Map'!$B$2:$B$31,'Country Map'!$A$2:$A$31) -> DE | I5: ='Hubspot Export'!L5 -> +49 71311219889 | L5: ='Hubspot Export'!K5 -> info@actbig.de | M5: ='Hubspot Export'!C5 -> www.actbig.de
A6: ='Hubspot Export'!B6 -> ACTUACOM SARL | B6: =A6 -> ACTUACOM SARL | C6: ='Hubspot Export'!E6 -> 5 rue des Loches | D6: ='Hubspot Export'!F6 -> 0 | E6: ='Hubspot Export'!I6 -> 71100 | F6: ='Hubspot Export'!G6 -> Sevrey | G6: ='Hubspot Export'!H6 -> 0 | H6: =LOOKUP('Hubspot Export'!J6,'Country Map'!$B$2:$B$31,'Country Map'!$A$2:$A$31) -> FR | I6: ='Hubspot Export'!L6 -> +33 385991907 | L6: ='Hubspot Export'!K6 -> 0 | M6: ='Hubspot Export'!C6 -> www.actuacom.fr
A7: ='Hubspot Export'!B7 -> ADD-ON CONSULTING SARL | B7: =A7 -> ADD-ON CONSULTING SARL | C7: ='Hubspot Export'!E7 -> 9 rue du Bâtiment | D7: ='Hubspot Export'!F7 -> 0 | E7: ='Hubspot Export'!I7 -> 95420 | F7: ='Hubspot Export'!G7 -> CLERY EN VEXIN | G7: ='Hubspot Export'!H7 -> 0 | H7: =LOOKUP('Hubspot Export'!J7,'Country Map'!$B$2:$B$31,'Country Map'!$A$2:$A$31) -> FR | I7: ='Hubspot Export'!L7 -> +33 134353693 | L7: ='Hubspot Export'!K7 -> 0 | M7: ='Hubspot Export'!C7 -> www.addon.fr
A8: ='Hubspot Export'!B8 -> ADECOME / STLENN INFORMATIQUE | B8: =A8 -> ADECOME / STLENN INFORMATIQUE | C8: ='Hubspot Export'!E8 -> 26 rue de Nambot | D8: ='Hubspot Export'!F8 -> 0 | E8: ='Hubspot Export'!I8 -> 79000 | F8: ='Hubspot Export'!G8 -> Niort | G8: ='Hubspot Export'!H8 -> 0 | H8: =LOOKUP('Hubspot Export'!J8,'Country Map'!$B$2:$B$31,'Country Map'!$A$2:$A$31) -> FR | I8: ='Hubspot Export'!L8 -> +33 549322141 | L8: ='Hubspot Export'!K8 -> 0 | M8: ='Hubspot Export'!C8 -> www.adecome.fr
A9: ='Hubspot Export'!B9 -> Adeo Service GmbH | B9: =A9 -> Adeo Service GmbH | C9: ='Hubspot Export'!E9 -> Dorstener Str. 16 | D9: ='Hubspot Export'!F9 -> 0 | E9: ='Hubspot Export'!I9 -> 46348 | F9: ='Hubspot Export'!G9 -> Raesfeld | G9: ='Hubspot Export'!H9 -> 0 | H9: =LOOKUP('Hubspot Export'!J9,'Country Map'!$B$2:$B$31,'Country Map'!$A$2:$A$31) -> DE | I9: ='Hubspot Export'!L9 -> +49 28652023250 | L9: ='Hubspot Export'!K9 -> it@adeo-service.de | M9: ='Hubspot Export'!C9 -> www.schliack.de
A10: ='Hubspot Export'!B10 -> ADN Advanced Digital Network Distribution | B10: =A10 -> ADN Advanced Digital Network Distribution | C10: ='Hubspot Export'!E10 -> Josef-Haumann-Straße 10 | D10: ='Hubspot Export'!F10 -> 0 | E10: ='Hubspot Export'!I10 -> 44866 | F10: ='Hubspot Export'!G10 -> Bochum | G10: ='Hubspot Export'!H10 -> 0 | H10: =LOOKUP('Hubspot Export'!J10,'Country Map'!$B$2:$B$31,'Country Map'!$A$2:$A$31) -> DE | I10: ='Hubspot Export'!L10 -> +49 2327 9912 475 | L10: ='Hubspot Export'!K10 -> 0 | M10: ='Hubspot Export'!C10 -> www.adn.de
A11: ='Hubspot Export'!B11 -> ADVANCE INFORMATIQUE ANJOU SARL | B11: =A11 -> ADVANCE INFORMATIQUE ANJOU SARL | C11: ='Hubspot Export'!E11 -> 20 bd de l'Industrie | D11: ='Hubspot Export'!F11 -> 0 | E11: ='Hubspot Export'!I11 -> 49000 | F11: ='Hubspot Export'!G11 -> Écouflant | G11: ='Hubspot Export'!H11 -> 0 | H11: =LOOKUP('Hubspot Export'!J11,'Country Map'!$B$2:$B$31,'Country Map'!$A$2:$A$31) -> FR | I11: ='Hubspot Export'!L11 -> +33 241368181 | L11: ='Hubspot Export'!K11 -> 0 | M11: ='Hubspot Export'!C11 -> www.advance-info.fr
A12: ='Hubspot Export'!B12 -> AERA TELECOM | B12: =A12 -> AERA TELECOM | C12: ='Hubspot Export'!E12 -> 320 Rue Saint Honoré | D12: ='Hubspot Export'!F12 -> 0 | E12: ='Hubspot Export'!I12 -> 75001 | F12: ='Hubspot Export'!G12 -> Paris | G12: ='Hubspot Export'!H12 -> 0 | H12: =LOOKUP('Hubspot Export'!J12,'Country Map'!$B$2:$B$31,'Country Map'!$A$2:$A$31) -> FR | I12: ='Hubspot Export'!L12 -> +33 181800600 | L12: ='Hubspot Export'!K12 -> 0 | M12: ='Hubspot Export'!C12 -> www.aeratelecom.fr
A13: ='Hubspot Export'!B13 -> AFD GmbH | B13: =A13 -> AFD GmbH | C13: ='Hubspot Export'!E13 -> Fangdieckstraße 75b | D13: ='Hubspot Export'!F13 -> 0 | E13: ='Hubspot Export'!I13 -> 22547 | F13: ='Hubspot Export'!G13 -> Hamburg | G13: ='Hubspot Export'!H13 -> Hamburg | H13: =LOOKUP('Hubspot Export'!J13,'Country Map'!$B$2:$B$31,'Country Map'!$A$2:$A$31) -> DE | I13: ='Hubspot Export'!L13 -> +49 4085385423 | L13: ='Hubspot Export'!K13 -> info@afd-deutschland.de | M13: ='Hubspot Export'!C13 -> www.afd-deutschland.de
A14: ='Hubspot Export'!B14 -> AIRE TELECOM | B14: =A14 -> AIRE TELECOM | C14: ='Hubspot Export'!E14 -> 12 rue de Cannes | D14: ='Hubspot Export'!F14 -> 0 | E14: ='Hubspot Export'!I14 -> 59000 | F14: ='Hubspot Export'!G14 -> Lille | G14: ='Hubspot Export'!H14 -> 0 | H14: =LOOKUP('Hubspot Export'!J14,'Country Map'!$B$2:$B$31,'Country Map'!$A$2:$A$31) -> FR | I14: ='Hubspot Export'!L14 -> +33 320622333 | L14: ='Hubspot Export'!K14 -> 0 | M14: ='Hubspot Export'!C14 -> www.aire-telecom.fr
... A239: ='Hubspot Export'!B239 -> WiS IT-Solutions GmbH | B239: =A239 -> WiS IT-Solutions GmbH | C239: ='Hubspot Export'!E239 -> Gottlieb-Daimler-Str. 19 | D239: ='Hubspot Export'!F239 -> 0 | E239: ='Hubspot Export'!I239 -> 86830 | F239: ='Hubspot Export'!G239 -> Schwabmünchen | G239: ='Hubspot Export'!H239 -> RP | H239: =LOOKUP('Hubspot Export'!J239,'Country Map'!$B$2:$B$31,'Country Map'!$A$2:$A$31) -> DE | I239: ='Hubspot Export'!L239 -> 0 82 32 95 940 - 51 | L239: ='Hubspot Export'!K239 -> info@wis.gmbh | M239: ='Hubspot Export'!C239 -> wis.gmbh

Sheet Hubspot Export
A1: Company ID | B1: Name | C1: Company Domain Name | D1: Partner Program | E1: Street Address | F1: Street Address 2 | G1: City | H1: State/Region | I1: Postal Code | J1: Country | K1: Public Email | L1: Phone Number | M1: Post to Website | N1: country 2 | O1: country 3 | P1: country 4 | Q1: country 5 | R1: All-IP Expert | S1: Associated Company ID | T1: Associated Company
A2: 274061206 | B2: abraxas Verlag GmbH | C2: www.braxas.de | D2: beroNet Partner | E2: Grapengiesserstrasse. 4 | G2: Lüneburg | I2: 21335 | J2: Germany | K2: info@braxas.de | L2: 04131 2 66 66 - 0 | M2: Yes
A3: 498566898 | B3: ABZ INFORMATIQUE | C3: www.abz-informatique.com | D3: beroNet Partner | E3: 5 allée des Roses | G3: Le Plessis Robinson | I3: 92350 | J3: France | L3: +33 652636003 | M3: Yes
A4: 498533158 | B4: ACENTO | C4: www.acento.pl | D4: beroNet Distributor | E4: ul. Biały Kamień 5 | G4: Warszawa | I4: 02-593 | J4: Poland | L4: +48 22 213 10 85 | M4: Yes
A5: 347429328 | B5: actBIG IT-Solutions | C5: www.actbig.de | D5: beroNet Partner | E5: Weipertstrasse, 8-10 | G5: Heilbronn | I5: 74076 | J5: Germany | K5: info@actbig.de | L5: +49 71311219889 | M5: Yes
A6: 498566456 | B6: ACTUACOM SARL | C6: www.actuacom.fr | D6: beroNet Partner | E6: 5 rue des Loches | G6: Sevrey | I6: 71100 | J6: France | L6: +33 385991907 | M6: Yes
A7: 498566436 | B7: ADD-ON CONSULTING SARL | C7: www.addon.fr | D7: beroNet Partner | E7: 9 rue du Bâtiment | G7: CLERY EN VEXIN | I7: 95420 | J7: France | L7: +33 134353693 | M7: Yes
A8: 498566884 | B8: ADECOME / STLENN INFORMATIQUE | C8: www.adecome.fr | D8: beroNet Partner | E8: 26 rue de Nambot | G8: Niort | I8: 79000 | J8: France | L8: +33 549322141 | M8: Yes
A9: 347430508 | B9: Adeo Service GmbH | C9: www.schliack.de | D9: beroNet Partner | E9: Dorstener Str. 16 | G9: Raesfeld | I9: 46348 | J9: Germany | K9: it@adeo-service.de | L9: +49 28652023250 | M9: Yes
A10: 347431473 | B10: ADN Advanced Digital Network Distribution | C10: www.adn.de | D10: beroNet Distributor | E10: Josef-Haumann-Straße 10 | G10: Bochum | I10: 44866 | J10: Germany | L10: +49 2327 9912 475 | M10: Yes
A11: 498566449 | B11: ADVANCE INFORMATIQUE ANJOU SARL | C11: www.advance-info.fr | D11: beroNet Partner | E11: 20 bd de l'Industrie | G11: Écouflant | I11: 49000 | J11: France | L11: +33 241368181 | M11: Yes
A12: 347430578 | B12: AERA TELECOM | C12: www.aeratelecom.fr | D12: beroNet Partner | E12: 320 Rue Saint Honoré | G12: Paris | I12: 75001 | J12: France | L12: +33 181800600 | M12: Yes
A13: 347430643 | B13: AFD GmbH | C13: www.afd-deutschland.de | D13: beroNet Partner | E13: Fangdieckstraße 75b | G13: Hamburg | H13: Hamburg | I13: 22547 | J13: Germany | K13: info@afd-deutschland.de | L13: +49 4085385423 | M13: Yes
A14: 498566464 | B14: AIRE TELECOM | C14: www.aire-telecom.fr | D14: beroNet Partner | E14: 12 rue de Cannes | G14: Lille | I14: 59000 | J14: France | L14: +33 320622333 | M14: Yes
A15: 498566589 | B15: Alias srl | C15: www.alias.it | D15: beroNet Distributor | E15: Via San Francesco, 2 | G15: Udine | H15: Udine | I15: 33100 | J15: Italy | L15: +39 0432 287722 | M15: Yes
A16: 498566045 | B16: ALLIANTEL | C16: www.alliantel.fr | D16: beroNet Partner | E16: 31 rue de Constantinople | G16: Paris | I16: 75008 | J16: France | K16: contact@alliantel.fr | L16: +33 176214004 | M16: Yes
A17: 498566592 | B17: ALLNET ITALIA SPA | C17: www.allnet-italia.it | D17: beroNet Distributor | E17: Via Fucini, 2 | G17: Casalecchio di Reno | H17: Bologna | I17: 40033 | J17: Italy | L17: +39 051 0547710 | M17: Yes
A18: 274061281 | B18: Alsitec - Wittkopf | C18: www.alsitec-wittkopf.de | D18: beroNet Partner | E18: Hamburger Straße 17 | G18: Kyritz | H18: BB | I18: 16866 | J18: Germany | K18: info@alsitec-wittkopf.de | L18: 033971 87043 | M18: Yes
A19: 408735594 | B19: Alt Gr SA | C19: altgrsa.ch | D19: beroNet Partner | E19: via G.Motta 10 | G19: Chiasso | I19: 6830 | J19: Switzerland | K19: info-beronet@altgrsa.ch | L19: +41 91 228 03 11 | M19: Yes | R19: Yes
A20: 353979125 | B20: AMRO Soft- & Hardware GmbH + Co. KG | C20: www.amro.de | D20: beroNet Partner | E20: Treuchtlinger Str. 1 | G20: Weißenburg i. Bayern | H20: BY | I20: 91781 | J20: Germany | L20: +49 9141 / 9019-0 | M20: Yes
A21: 498566489 | B21: ANBOLE SARL | C21: anbole.fr | D21: beroNet Partner | E21: 477 route de l'église | G21: Saint-Martin-Bellevue | I21: 74370 | J21: France | L21: +33 480806091 | M21: Yes
A22: 498566486 | B22: APE CONSEIL | C22: www.ape-conseil.com | D22: beroNet Partner | E22: 503 Avenue du 8 Mai 1945 | G22: Caluire-et-Cuire | I22: 69300 | J22: France | L22: +33 472100979 | M22: Yes
A23: 474323657 | B23: API Computerhandels GmbH | C23: www.api.de | D23: beroNet Distributor | E23: Robert-Koch-Str. 7-17 | G23: Baesweiler | H23: DE | I23: 52499 | J23: Germany | L23: +49 241 / 9170- 5080 | M23: Yes
A24: 498566458 | B24: ARA TELECOM SARL | C24: www.ara-telecom.fr | D24: beroNet Partner | E24: 1 avenue Pierre Pflimlin | G24: Sausheim | I24: 68390 | J24: France | L24: +33 389322132 | M24: Yes
A25: 353979275 | B25: AR-SYSTEMS GmbH & Co. KG | C25: ar-systems.de | D25: beroNet Partner | E25: Garbenheimer Str. 30 | G25: Wetzlar | H25: Hessen | I25: 35578 | J25: Germany | L25: (0)6441 204568-12 | M25: Yes
A26: 498566490 | B26: ARTIC / AR-TIC SARL | C26: www.ar-tic.com | D26: beroNet Partner | E26: 56B Avenue Chanoine CARTELLIER | G26: Saint-Genis-Laval | I26: 69230 | J26: France | L26: +33 481061010 | M26: Yes
A27: 498459779 | B27: ASH NetConsult GmbH | C27: www.ash-netconsult.de | D27: beroNet Partner | E27: Schützenstr. 18 | G27: Weilheim | H27: BY | I27: 82362 | J27: Germany | K27: info@ash-netconsult.de | L27: +49 881 9254810 | M27: Yes
A28: 498566420 | B28: Assutech | C28: www.assutech.com | D28: beroNet Partner | E28: 21 Boulevard Littré | G28: Le Mesnil le Roi | I28: 78600 | J28: France | K28: contact@assutech.com | L28: +33 130096890 | M28: Yes
A29: 498566465 | B29: AST INFO SARL | C29: www.astinfo.fr | D29: beroNet Partner | E29: 38 avenue de Vitry | G29: Sainte-Menehould | I29: 51800 | J29: France | L29: +33 326607539 | M29: Yes
A30: 624331087 | B30: Atena-IT | C30: www.atena-it.fr | D30: beroNet Partner | E30: 6 place des noyers | G30: Menucourt | I30: 95180 | J30: France | K30: contact@atena-it.fr | L30: +33 185383838 | M30: Yes
A31: 498717547 | B31: ATIS BVBA | C31: atistelecom.be | D31: beroNet Distributor | E31: Pegasuslaan 5 | G31: DIEGEM | I31: 1831 | J31: Belgium | K31: info@atistelecom.be | L31: 3238086201 | M31: Yes
A32: 347428378 | B32: ATIS Telecommunicatie B.V. | C32: www.atistelecom.nl | D32: beroNet Distributor | E32: Frankfurtstraat 10 | G32: Lijnden | I32: 1175 RH | J32: Netherlands | L32: +3120-358 25 10 | M32: Yes | N32: Luxembourg
A33: 498565953 | B33: AURUS TELECOM SAS | C33: www.aurustelecom.fr | D33: beroNet Partner | E33: 5 rue des Loches | G33: Sevrey | I33: 71100 | J33: France | L33: +33 385991907 | M33: Yes
A34: 347428438 | B34: Avanzada 7 S.L. | C34: www.avanzada7.com | D34: beroNet Distributor | E34: Maria Curie 20, 1° | G34: Malaga | H34: Mlaga | I34: 29590 | J34: Spain | L34: 34952028709 | M34: Yes
A35: 347432073 | B35: AVELIA | C35: avelia.net | D35: beroNet Partner | E35: 20 Rue Laugier | G35: Paris | I35: 75017 | J35: France | L35: +33 492040553 | M35: Yes
A36: 274061726 | B36: Beiren Datenservice | C36: www.beiren.de | D36: beroNet Partner | E36: Großer Wulfhagen 37 | G36: Uetersen | H36: SH | I36: 25436 | J36: Germany | K36: info@beiren.de | L36: +49 4122-901390 | M36: Yes
A37: 499138736 | B37: bitfire GmbH | C37: www.bitfire.de | D37: beroNet Partner | E37: Kissinger Str. 140 | G37: Bad Kissingen | H37: Bayern | I37: 97688 | J37: GERMANY | K37: service@bitfire.de | L37: +49 971 730170 | M37: Yes | R37: Yes
A38: 613242085 | B38: Bitstore IT-Consulting - Dallgow-Döberitz | C38: bitstore-online.de | D38: beroNet Partner | E38: Kieler Strasse 20 | G38: Dallgow-Döberitz | H38: Berlin | I38: 14624 | J38: Germany | K38: info@bitstore-online.de | L38: +49 3322 507 020 | M38: Yes
A39: 613436230 | B39: Bitstore IT-Consulting - Kloster Lehnin | C39: bitstore-online.de | D39: beroNet Partner | E39: Am Klostersteig 16 | G39: Kloster Lehnin | H39: Berlin | I39: 14797 | J39: Germany | K39: info@bitstore-online.de | L39: +49 33207 566 530 | M39: Yes
A40: 613239805 | B40: Bitstore IT-Consulting - Lentzke | C40: bitstore-online.de | D40: beroNet Partner | E40: Brunnerstrasse 21 | G40: Lentzke | H40: Berlin | I40: 16833 | J40: Germany | K40: info@bitstore-online.de | L40: +49 33932 770 00 | M40: Yes
A41: 613239453 | B41: Bitstore IT-Consulting - Liebenwalde | C41: bitstore-online.de | D41: beroNet Partner | E41: Poststrasse 5 | G41: Liebenwalde | H41: Berlin | I41: 16559 | J41: Germany | K41: info@bitstore-online.de | L41: +49 33054 810 00 | M41: Yes
A42: 613843137 | B42: Bitstore IT-Consulting - Lutherstadt-Wittenberg | C42: bitstore-online.de | D42: beroNet Partner | E42: Pfaffengasse 6a | G42: Lutherstadt-Wittenberg | H42: Berlin | I42: 6886 | J42: Germany | K42: info@bitstore-online.de | L42: +49 3491 876 735 7 | M42: Yes
A43: 613437235 | B43: Bitstore IT-Consulting - Magdeburg | C43: bitstore-online.de | D43: beroNet Partner | E43: Liebknechtstrasse 53 | G43: Magdeburg | I43: 39108 | J43: Germany | K43: info@bitstore-online.de | L43: +49 391 251 940 0 | M43: Yes
A44: 498566732 | B44: Bitstore IT-Consulting GmbH | C44: www.bitstore-online.de | D44: beroNet Partner | E44: Frankfurter Allee 285 | G44: Berlin | H44: Berlin | I44: 10317 | J44: Germany | K44: info@bitstore-online.de | L44: +49 30 453 08 78 0 | M44: Yes
A45: 498566273 | B45: BNC Network Consult GmbH | C45: www.bnc.info | D45: beroNet Partner | E45: Luetzowstr. 105 | G45: Berlin | H45: Berlin | I45: 10785 | J45: Germany | K45: info@bnc.info | L45: +49 3020181700 | M45: Yes
A46: 347429268 | B46: Bohnhoff Soft- und Hardware | C46: www.bohnhoff-gmbh.de | D46: beroNet Partner | E46: Wilhelmstr. 66 | G46: Berlin | H46: Berlin | I46: 13593 | J46: GERMANY | K46: bnoetzel@bohnhoff-gmbh.de | L46: +49 30 353936 0 | M46: Yes
A47: 403804986 | B47: Börder Computer Consulting Service AG | C47: www.bcsag.de | D47: beroNet Partner | E47: Wolfratshauser Str. 47i | G47: Pullach | I47: 82049 | J47: Germany | K47: info@bcsag.de | L47: +49 89790861514 | M47: Yes
A48: 499178825 | B48: Braun & Paul IT GmbH | C48: www.bnp-it.de | D48: beroNet Partner | E48: Marienbergstraße 84 | G48: Nürnberg | I48: 90411 | J48: Germany | K48: info@bnp-it.de | L48: +49 911 956497-0 | M48: Yes
A49: 347429228 | B49: Buerotechnik Gruhn | C49: www.buerotechnik-gruhn.de | D49: beroNet Partner | E49: Preußenstr. 19 | G49: SAARBRÜCKEN | I49: 66111 | J49: Germany | K49: info@buerotechnik-gruhn.de | L49: +49 681 967190 | M49: Yes
A50: 847841700 | B50: Bureau des Télécoms | C50: bureau-telecoms.fr | D50: beroNet Partner | E50: 70 avenue de Milan | G50: Perpignan | I50: 66000 | J50: France | K50: contact@bureau-telecoms.fr | L50: +33 805950001, +33 468851669 | M50: Yes
A51: 353979115 | B51: Büro Goch GmbH | C51: www.buero-buero.com | D51: beroNet Partner | E51: Daimlerstr. 46 | G51: Goch | H51: NRW | I51: 47574 | J51: Germany | K51: o.glassl@buero-buero.com | L51: +49 2823944022 | M51: Yes
A52: 347431748 | B52: C+ITEC AG | C52: www.citec-ag.de | D52: beroNet Partner | E52: Gewerbegebiet Industriegebiet Frohnrad | G52: Hösbach | J52: GERMANY | K52: vertrieb@citec-ag.de | L52: 0049 602144361100 | M52: Yes
A53: 529503182 | B53: Cal4care (Japan) Co. Ltd. | C53: cal4care.co.jp | D53: beroNet Distributor | E53: 145-0073 14-8 Kitamine-machi | F53: Oota-ku | G53: Tokyo | I53: 135-0062 | J53: Japan | K53: info@cal4care.co.jp | M53: Yes
A54: 529485948 | B54: Cal4Care (Thailand) Co. LTD. | C54: cal4care.co.th | D54: beroNet Distributor | E54: 163/84 Sunphawur Rd. | F54: Bangna | G54: Bankok | I54: 10260 | J54: Thailand | K54: marketing@cal4care.co.th | L54: +65 63401005 | M54: Yes
A55: 529485223 | B55: Cal4care India Pvt.Ltd. | C55: cal4care.com | D55: beroNet Distributor | E55: 230, RVN Layout | F55: New Siddhadapudur | G55: Coimbatore | H55: Tamil Nadu | I55: 641044 | J55: India | K55: info@cal4care.com | L55: +91 422 4387679,4210003 | M55: Yes
A56: 498566756 | B56: Cal4Care Pte | C56: www.cal4care.com.sg | D56: beroNet Distributor | E56: 118, Aljunied Av. 2, #07-102 | G56: Singapore | I56: 380118 | J56: Singapore | L56: 6582986675 | M56: Yes
A57: 529346041 | B57: Cal4Care Sdn. Bnd. - Malaysia | C57: cal4care.com.my | D57: beroNet Distributor | E57: No-1 Jalan 7/40 | F57: Taman pusat Kepong | G57: Kuala lumpur | I57: 52000 | J57: Malaysia | L57: +60 27123105 | M57: Yes
A58: 347430453 | B58: Capsec | C58: www.capsec.it | D58: beroNet Partner | E58: Località Ca Bellacqua 3 | G58: Pavia | H58: Italy | I58: 27052 | J58: Italy | K58: Info@capsec.it | L58: +39 3497262717 | M58: Yes
A59: 347428398 | B59: CCNet Computer GmbH | C59: ccnet.eu | D59: beroNet Partner | E59: Katharinengasse 14 | G59: Gießen | H59: HESSEN | I59: 35390 | J59: Germany | L59: +49 641 979080 | M59: Yes
A60: 498566416 | B60: Celea Consulting SARL | C60: www.celea-consulting.fr | D60: beroNet Partner | E60: 149 Avenue du Maine | G60: Paris | I60: 75014 | J60: France | L60: +33 972132262 | M60: Yes
A61: 498566194 | B61: centrovis GmbH | C61: www.centrovis.com | D61: beroNet Partner | E61: Hohenrainstrasse 26b | G61: Liestal | H61: BL | I61: 4410 | J61: Switzerland | K61: info@centrovis.com | L61: +41 58 255 01 99 | M61: Yes
A62: 498566438 | B62: CL SYSTEMS SARL | C62: www.clsystems.fr | D62: beroNet Partner | E62: 6 Rue Simone Bigot | G62: Neuilly-Plaisance | I62: 93360 | J62: France | L62: +33 143080202 | M62: Yes
A63: 585410526 | B63: CND GmbH Computer & Netzwerk Dienstleistungen | C63: www.cnd-gmbh.de | D63: beroNet Partner | E63: 17 Industriepark Soonwald | G63: Rheinböllen | H63: RP | I63: 55494 | J63: GERMANY | K63: cnd@cnd-gmbh.de | L63: +49 (0) 6764 3037-0 | M63: Yes
A64: 498566886 | B64: Cobotec | C64: www.cobotec.de | D64: beroNet Partner | E64: Zimmerstr. 8 | G64: Bielefeld | H64: NRW | I64: 33609 | J64: Germany | L64: 0521/ 91 51 24 – 0 | M64: Yes
A65: 853750216 | B65: Comasys | C65: www.comasys.fr | D65: beroNet Partner | E65: 317 rue Henri Potez | F65: ZAC Papillon | G65: Parçay Meslay | I65: 37210 | J65: France | L65: +33 247370123 | M65: Yes
A66: 274061816 | B66: COMJECT GmbH | C66: www.comject.de | D66: beroNet Partner | E66: Nürnberger Str. 117 | G66: Wernberg- Köblitz | H66: BY | I66: 92533 | J66: Germany | K66: mail@comject.de | L66: 09604 909022 | M66: Yes
A67: 347430863 | B67: compatible.de | C67: com.patible.de | D67: beroNet Partner | E67: Hohenlindner Str. 11a | G67: Feldkirchen | I67: 85622 | J67: Germany | K67: S.Sperlich@com.patible.de | L67: +49 89 309053830 | M67: Yes | R67: Yes
A68: 741622548 | B68: COMPUNET Systems GmbH | C68: cpn-systems.it | D68: beroNet Partner | E68: Paul-Ehrlich-Straße 1-3 | G68: Lübeck | I68: 23562 | J68: Germany | K68: info@cpn-systems.it | L68: +49 451 317 033-0 | M68: Yes
A69: 498565976 | B69: CONNECT SERVICES SARL | C69: connectservices.fr | D69: beroNet Partner | E69: 27 rue Mansart | G69: Joué-les-Tours | I69: 37300 | J69: France | L69: +33 247872544 | M69: Yes
A70: 498566437 | B70: COPWELL | C70: www.copwell.fr | D70: beroNet Partner | E70: 100, avenue du Général Leclerc | G70: Pantin | I70: 93500 | J70: France | K70: copwell@copwell.com | L70: +33 141834358 | M70: Yes
A71: 498565852 | B71: Crypteo SARL / Aza Telecom | C71: www.crypteo.com | D71: beroNet Partner | E71: 12 chemin de la Bouissounade, | G71: Lagrave | I71: 81150 | J71: France | L71: +33 563422222 | M71: Yes
A72: 347429273 | B72: CS Computer & Service GmbH | C72: www.cs-gmbh.net | D72: beroNet Partner | E72: Banksstraße 4 | G72: Hamburg | H72: Andernach | I72: 20097 | J72: Germany | K72: info@cs-gmbh.net | L72: 040/8818070 | M72: Yes
A73: 498566863 | B73: CTV GmbH Zwickau | C73: www.CTV-Zwickau.de | D73: beroNet Partner | E73: Gewerbering 22 | G73: Wilkau-Haßlau | H73: SN | I73: 8112 | J73: Germany | K73: mail@ctv-zwickau.de | L73: 0375 / 589020 | M73: Yes
A74: 907918536 | B74: Cube Office GmbH & Co. KG | C74: cubeoffice.de | D74: beroNet Partner | E74: FICHTESTR. 29A | G74: Magdeburg | I74: 39112 | J74: Germany | K74: info@cubeoffice.de | L74: +49 3916112810 | M74: Yes
A75: 498566216 | B75: CWB-IT GmbH | C75: www.cwb-it.com | D75: beroNet Partner | E75: Am Storrenacker 18 | G75: Karlsruhe | I75: 76139 | J75: Germany | K75: info@cwb-it.com | L75: 72162691877 | M75: Yes
A76: 498566209 | B76: cynfo GmbH | C76: cynfo.com | D76: beroNet Partner | E76: Maschmuehlenweg 8-10 | G76: Göttingen | I76: 37073 | J76: Germany | K76: info@cynfo.com | L76: 55190036525 | M76: Yes
A77: 498566208 | B77: Daniel Kiechle EDV | C77: www.kiechle-edv.de | D77: beroNet Partner | E77: Schwarzer Kamp 33 | G77: Harsum | I77: 31177 | J77: Germany | L77: +49 51279731599 | M77: Yes
A78: 499178772 | B78: Datadirect GmbH | C78: www.datadirect.de | D78: beroNet Partner | E78: Bötzingerstr. 48 | G78: Freiburg im Breisgau | H78: Baden-Württemberg | I78: 79111 | J78: Germany | K78: info@datadirect.de | L78: +49 761 4702 0 | M78: Yes
A79: 498565875 | B79: Devopsys SAS | C79: www.devopsys.com | D79: beroNet Partner | E79: 1 avenue d'Ester | G79: Limoges | I79: 87100 | J79: France | L79: +33 587030300 | M79: Yes
A80: 498566847 | B80: dig it! GmbH | C80: www.dig-it.de | D80: beroNet Partner | E80: Berliner Strasse 90 | G80: Berlin | I80: 10405 | J80: Germany | L80: 030/61280621 | M80: Yes
A81: 347429338 | B81: dng IT GmbH & Co. KG | C81: www.dng-it.de | D81: beroNet Partner | E81: Koblenzer Str. 94 | G81: Wenden | H81: Nordrhein-Westfalen | I81: 57482 | J81: Germany | K81: info@dng.de | L81: 02762 - 9755 0 | M81: Yes
A82: 498565921 | B82: Do You Do SARL | C82: www.doyoudo.fr | D82: beroNet Partner | E82: 2 avenue St Julien | F82: ZA Camp Ferrat | G82: Ste Maxime | I82: 83120 | J82: France | L82: +33 494976432 | M82: Yes
A83: 347429288 | B83: Dragon Consulting Minden UG | C83: www.dcminden.de | D83: beroNet Partner | E83: Bachstrasse 36 | G83: Minden | I83: 32423 | J83: Germany | K83: info@dcminden.de | L83: 0571945991-0 | M83: Yes
A84: 424660928 | B84: Edox SAS | C84: www.edox.com | D84: beroNet Distributor | E84: 9 Rue du Luxembourg ZAE Heiden EST | G84: Wittelsheim | I84: 68310 | J84: France | L84: +33 389310620 | M84: Yes
A85: 347431638 | B85: EDV Service Schmidt | C85: www.ess-koeln.de | D85: beroNet Partner | E85: Weißhausstraße 21a | G85: Köln | H85: NRW | I85: 50939 | J85: Germany | K85: vertrieb@ess-koeln.de | L85: +49 221936 456-0 | M85: Yes
A86: 347431583 | B86: Egenberger IT Solutions GmbH | C86: www.egenberger.de | D86: beroNet Partner | E86: Landstraße 20 | G86: Buchen / Odw. | I86: 74722 | J86: Germany | K86: info@egenberger.de | L86: 06287-9207-12 | M86: Yes
A87: 498566001 | B87: ELECTRONIC FRONTIER LTD | C87: www.electronicfrontier.co.uk | D87: beroNet Distributor | E87: UNIT 3THEALE Technology Company CENTRE STATION ROAD | G87: THEALE | H87: England | I87: RG7 4XX | J87: United Kingdom | L87: +44 8448751580 | M87: Yes | N87: Ireland
A88: 498459742 | B88: EL-ME-WE | C88: www.el-me-we.de | D88: beroNet Partner | E88: Glockengießerwall 26 | G88: Hamburg | I88: 20095 | J88: Germany | K88: info@el-me-we.de | L88: +49 40 3070950 | M88: Yes
A89: 347429403 | B89: EOD European Online Distribution GmbH (VOIPANGO) | C89: www.voipango.de | D89: beroNet Distributor | E89: EOD European Online Distribution GmbHBurkheimer Straße 3 | G89: Freiburg | I89: 79111 | J89: Germany | L89: +49761 45 89 29-10 | M89: Yes
A90: 513729513 | B90: EQUADEX | C90: www.equadex.net | D90: beroNet Partner | E90: 8 chemin de la terrasse | G90: Toulouse | I90: 31500 | J90: France | L90: +33 567346790 | M90: Yes
A91: 274061576 | B91: EURISTEL SAS | C91: www.novxtel.com | D91: beroNet Partner | E91: 10, rue Auguste Bartholdi Parc Gustave Eiffel | G91: CARRIERES SUR SEINE | I91: 78420 | J91: France | L91: +33 146889761 | M91: Yes
A92: 498566469 | B92: Exenta Informatique SARL | C92: www.exenta.fr | D92: beroNet Partner | E92: 1, allée des Artisans | G92: Huningue | I92: 68330 | J92: France | L92: +33 389686988 | M92: Yes
A93: 423423979 | B93: EXTREMIT SAS | C93: www.extremIT.fr | D93: beroNet Partner | E93: 16 rue du Carrousel | G93: Villeneuve-d’Ascq | I93: 59650 | J93: France | L93: +33 320646606 | M93: Yes
A94: 498565861 | B94: FAKTORI SARL | C94: www.cmesservices.fr | D94: beroNet Partner | E94: ZAC du Golf 6 impasse Oihana | G94: BASSUSSARRY | I94: 64200 | J94: France | L94: +33 564115115 | M94: Yes
A95: 353979355 | B95: Fischer Systempartner GmbH | C95: www.itfischer.de | D95: beroNet Partner | E95: Jagdstr. 16 | G95: Freising | I95: 86356 | J95: Germany | K95: email@itfischer.de | L95: +49 81611480817 | M95: Yes
A96: 498566828 | B96: Fquadrat Systemberatung | C96: www.Fquadrat-Systemberatung.de | D96: beroNet Partner | E96: Gremmendorfer Weg 32 | G96: Münster | I96: 48167 | J96: Germany | K96: frieling@fquadrat-systemberatung.de | L96: +49 251 - 39 99 50 40 | M96: Yes
A97: 498566941 | B97: FuchsEDV GmbH&Co.KG | C97: www.fuchsedv.com | D97: beroNet Partner | E97: St.-Johannes-Str. 8 | G97: Glonn | I97: 85625 | J97: Germany | K97: info@fuchsedv.com | L97: 08093-902342 | M97: Yes
A98: 415602838 | B98: FULL CONNECT SAS | C98: www.full-connect.fr | D98: beroNet Partner | E98: 115 rue Louis Armand | F98: ZI LES MILLES BAT A3 | G98: Aix en Provence | I98: 13290 | J98: France | K98: info@full-connect.fr | L98: +33 442517105 | M98: Yes
A99: 353979070 | B99: Gast Solutions | C99: www.gast-solutions.de | D99: beroNet Partner | E99: Am Ottenhausener Berg 49 | G99: Saarbrücken | I99: 66128 | J99: Germany | K99: mail@gast-solutions.de | L99: 0681 / 7020017 | M99: Yes | R99: Yes
A100: 498566338 | B100: Genco Power / Partnernet | C100: www.partnernet.gr | D100: beroNet Distributor | E100: Sarantaporou 9 | G100: Xolargos | I100: 15561 | J100: Greece | L100: +30 2102116500 | M100: Yes
...

Sheet Country Map
A1: Website | B1: Hubspot
A2: AU | B2: Australia
A3: AT | B3: Austria
A4: BE | B4: Belgium
A5: CZ | B5: Czech Republic
A6: FR | B6: France
A7: DE | B7: Germany
A8: DE | B8: GERMANY
A9: GR | B9: Greece
A10: IN | B10: India
A11: IE | B11: Ireland
A12: IT | B12: Italy
... A31: US | B31: USA
