Workbook

Sheet WebSite Import
A1: name | B1: description | C1: address1 | D1: address2 | E1: zip | F1: city | G1: region | H1: country | I1: telephone | J1: mobile | K1: fax | L1: email | M1: website | N1: premium | O1: ranking | P1: icon | Q1: lat | R1: lng | S1: Monday_open | T1: Monday_close | U1: Tuesday_open | V1: Tuesday_close | W1: Wednesday_open | X1: Wednesday_close | Y1: Thursday_open | Z1: Thursday_close | AA1: Friday_open | AB1: Friday_close | AC1: Saturday_open | AD1: Saturday_close | AE1: Sunday_open | AF1: Sunday_close
A2: ='Hubspot Export'!B2 -> abraxas Verlag GmbH | B2: =A2 -> abraxas Verlag GmbH | C2: ='Hubspot Export'!E2 -> Grapengiesserstrasse. 4 | D2: ='Hubspot Export'!F2 -> 0 | E2: ='Hubspot Export'!I2 -> 21335 | F2: ='Hubspot Export'!G2 -> Lüneburg | G2: ='Hubspot Export'!H2 -> 0 | H2: =LOOKUP('Hubspot Export'!J2,'Country Map'!$B$2:$B$31,'Country Map'!$A$2:$A$31) -> DE | I2: ='Hubspot Export'!L2 -> 04131 2 66 66 - 0 | L2: ='Hubspot Export'!K2 -> info@braxas.de | M2: ='Hubspot Export'!C2 -> www.braxas.de | N2: 0 | O2: 10 | S2: 08:00 | T2: 17:00 | U2: 08:00 | V2: 17:00 | W2: 08:00 | X2: 17:00 | Y2: 08:00 | Z2: 17:00 | AA2: 08:00 | AB2: 17:00 | AC2: 08:00 | AD2: 17:00 | AE2: 08:00 | AF2: 17:00
A3: ='Hubspot Export'!B3 -> ABZ INFORMATIQUE | B3: =A3 -> ABZ INFORMATIQUE | C3: ='Hubspot Export'!E3 -> 5 allée des Roses | D3: ='Hubspot Export'!F3 -> 0 | E3: ='Hubspot Export'!I3 -> 92350 | F3: ='Hubspot Export'!G3 -> Le Plessis Robinson | G3: ='Hubspot Export'!H3 -> 0 | H3: =LOOKUP('Hubspot Export'!J3,'Country Map'!$B$2:$B$31,'Country Map'!$A$2:$A$31) -> FR | I3: ='Hubspot Export'!L3 -> +33 652636003 | L3: ='Hubspot Export'!K3 -> 0 | M3: ='Hubspot Export'!C3 -> www.abz-informatique.com
A4: ='Hubspot Export'!B4 -> ACENTO | B4: =A4 -> ACENTO | C4: ='Hubspot Export'!E4 -> ul. Biały Kamień 5 | D4: ='Hubspot Export'!F4 -> 0 | E4: ='Hubspot Export'!I4 -> 02-593 | F4: ='Hubspot Export'!G4 -> Warszawa | G4: ='Hubspot Export'!H4 -> 0 | H4: =LOOKUP('Hubspot Export'!J4,'Country Map'!$B$2:$B$31,'Country Map'!$A$2:$A$31) -> PL | I4: ='Hubspot Export'!L4 -> +48 22 213 10 85 | L4: ='Hubspot Export'!K4 -> 0 | M4: ='Hubspot Export'!C4 -> www.acento.pl
A5: ='Hubspot Export'!B5 -> actBIG IT-Solutions | B5: =A5 -> actBIG IT-Solutions | C5: ='Hubspot Export'!E5 -> Weipertstrasse, 8-10 | D5: ='Hubspot Export'!F5 -> 0 | E5: ='Hubspot Export'!I5 -> 74076 | F5: ='Hubspot Export'!G5 -> Heilbronn | G5: ='Hubspot Export'!H5 -> 0 | H5: =LOOKUP('Hubspot Export'!J5,'Country Map'!$B$2:$B$31,'Country Map'!$A$2:$A$31) -> DE | I5: ='Hubspot Export'!L5 -> +49 71311219889 | L5: ='Hubspot Export'!K5 -> info@actbig.de | M5: ='Hubspot Export'!C5 -> www.actbig.de
A6: ='Hubspot Export'!B6 -> ACTUACOM SARL | B6: =A6 -> ACTUACOM SARL | C6: ='Hubspot Export'!E6 -> 5 rue des Loches | D6: ='Hubspot Export'!F6 -> 0 | E6: ='Hubspot Export'!I6 -> 71100 | F6: ='Hubspot Export'!G6 -> Sevrey | G6: ='Hubspot Export'!H6 -> 0 | H6: =LOOKUP('Hubspot Export'!J6,'Country Map'!$B$2:$B$31,'Country Map'!$A$2:$A$31) -> FR | I6: ='Hubspot Export'!L6 -> +33 385991907 | L6: ='Hubspot Export'!K6 -> 0 | M6: ='Hubspot Export'!C6 -> www.actuacom.fr
A7: ='Hubspot Export'!B7 -> ADD-ON CONSULTING SARL | B7: =A7 -> ADD-ON CONSULTING SARL | C7: ='Hubspot Export'!E7 -> 9 rue du Bâtiment | D7: ='Hubspot Export'!F7 -> 0 | E7: ='Hubspot Export'!I7 -> 95420 | F7: ='Hubspot Export'!G7 -> CLERY EN VEXIN | G7: ='Hubspot Export'!H7 -> 0 | H7: =LOOKUP('Hubspot Export'!J7,'Country Map'!$B$2:$B$31,'Country Map'!$A$2:$A$31) -> FR | I7: ='Hubspot Export'!L7 -> +33 134353693 | L7: ='Hubspot Export'!K7 -> 0 | M7: ='Hubspot Export'!C7 -> www.addon.fr
A8: ='Hubspot Export'!B8 -> ADECOME / STLENN INFORMATIQUE | B8: =A8 -> ADECOME / STLENN INFORMATIQUE | C8: ='Hubspot Export'!E8 -> 26 rue de Nambot | D8: ='Hubspot Export'!F8 -> 0 | E8: ='Hubspot Export'!I8 -> 79000 | F8: ='Hubspot Export'!G8 -> Niort | G8: ='Hubspot Export'!H8 -> 0 | H8: =LOOKUP('Hubspot Export'!J8,'Country Map'!$B$2:$B$31,'Country Map'!$A$2:$A$31) -> FR | I8: ='Hubspot Export'!L8 -> +33 549322141 | L8: ='Hubspot Export'!K8 -> 0 | M8: ='Hubspot Export'!C8 -> www.adecome.fr
A9: ='Hubspot Export'!B9 -> Adeo Service GmbH | B9: =A9 -> Adeo Service GmbH | C9: ='Hubspot Export'!E9 -> Dorstener Str. 16 | D9: ='Hubspot Export'!F9 -> 0 | E9: ='Hubspot Export'!I9 -> 46348 | F9: ='Hubspot Export'!G9 -> Raesfeld | G9: ='Hubspot Export'!H9 -> 0 | H9: =LOOKUP('Hubspot Export'!J9,'Country Map'!$B$2:$B$31,'Country Map'!$A$2:$A$31) -> DE | I9: ='Hubspot Export'!L9 -> +49 28652023250 | L9: ='Hubspot Export'!K9 -> it@adeo-service.de | M9: ='Hubspot Export'!C9 -> www.schliack.de
A10: ='Hubspot Export'!B10 -> ADN Advanced Digital Network Distribution | B10: =A10 -> ADN Advanced Digital Network Distribution | C10: ='Hubspot Export'!E10 -> Josef-Haumann-Straße 10 | D10: ='Hubspot Export'!F10 -> 0 | E10: ='Hubspot Export'!I10 -> 44866 | F10: ='Hubspot Export'!G10 -> Bochum | G10: ='Hubspot Export'!H10 -> 0 | H10: =LOOKUP('Hubspot Export'!J10,'Country Map'!$B$2:$B$31,'Country Map'!$A$2:$A$31) -> DE | I10: ='Hubspot Export'!L10 -> +49 2327 9912 475 | L10: ='Hubspot Export'!K10 -> 0 | M10: ='Hubspot Export'!C10 -> www.adn.de
A11: ='Hubspot Export'!B11 -> ADVANCE INFORMATIQUE ANJOU SARL | B11: =A11 -> ADVANCE INFORMATIQUE ANJOU SARL | C11: ='Hubspot Export'!E11 -> 20 bd de l'Industrie | D11: ='Hubspot Export'!F11 -> 0 | E11: ='Hubspot Export'!I11 -> 49000 | F11: ='Hubspot Export'!G11 -> Écouflant | G11: ='Hubspot Export'!H11 -> 0 | H11: =LOOKUP('Hubspot Export'!J11,'Country Map'!$B$2:$B$31,'Country Map'!$A$2:$A$31) -> FR | I11: ='Hubspot Export'!L11 -> +33 241368181 | L11: ='Hubspot Export'!K11 -> 0 | M11: ='Hubspot Export'!C11 -> www.advance-info.fr
A12: ='Hubspot Export'!B12 -> AERA TELECOM | B12: =A12 -> AERA TELECOM | C12: ='Hubspot Export'!E12 -> 320 Rue Saint Honoré | D12: ='Hubspot Export'!F12 -> 0 | E12: ='Hubspot Export'!I12 -> 75001 | F12: ='Hubspot Export'!G12 -> Paris | G12: ='Hubspot Export'!H12 -> 0 | H12: =LOOKUP('Hubspot Export'!J12,'Country Map'!$B$2:$B$31,'Country Map'!$A$2:$A$31) -> FR | I12: ='Hubspot Export'!L12 -> +33 181800600 | L12: ='Hubspot Export'!K12 -> 0 | M12: ='Hubspot Export'!C12 -> www.aeratelecom.fr
A13: ='Hubspot Export'!B13 -> AFD GmbH | B13: =A13 -> AFD GmbH | C13: ='Hubspot Export'!E13 -> Fangdieckstraße 75b | D13: ='Hubspot Export'!F13 -> 0 | E13: ='Hubspot Export'!I13 -> 22547 | F13: ='Hubspot Export'!G13 -> Hamburg | G13: ='Hubspot Export'!H13 -> Hamburg | H13: =LOOKUP('Hubspot Export'!J13,'Country Map'!$B$2:$B$31,'Country Map'!$A$2:$A$31) -> DE | I13: ='Hubspot Export'!L13 -> +49 4085385423 | L13: ='Hubspot Export'!K13 -> info@afd-deutschland.de | M13: ='Hubspot Export'!C13 -> www.afd-deutschland.de
A14: ='Hubspot Export'!B14 -> AIRE TELECOM | B14: =A14 -> AIRE TELECOM | C14: ='Hubspot Export'!E14 -> 12 rue de Cannes | D14: ='Hubspot Export'!F14 -> 0 | E14: ='Hubspot Export'!I14 -> 59000 | F14: ='Hubspot Export'!G14 -> Lille | G14: ='Hubspot Export'!H14 -> 0 | H14: =LOOKUP('Hubspot Export'!J14,'Country Map'!$B$2:$B$31,'Country Map'!$A$2:$A$31) -> FR | I14: ='Hubspot Export'!L14 -> +33 320622333 | L14: ='Hubspot Export'!K14 -> 0 | M14: ='Hubspot Export'!C14 -> www.aire-telecom.fr
... A239: ='Hubspot Export'!B239 -> WiS IT-Solutions GmbH | B239: =A239 -> WiS IT-Solutions GmbH | C239: ='Hubspot Export'!E239 -> Gottlieb-Daimler-Str. 19 | D239: ='Hubspot Export'!F239 -> 0 | E239: ='Hubspot Export'!I239 -> 86830 | F239: ='Hubspot Export'!G239 -> Schwabmünchen | G239: ='Hubspot Export'!H239 -> RP | H239: =LOOKUP('Hubspot Export'!J239,'Country Map'!$B$2:$B$31,'Country Map'!$A$2:$A$31) -> DE | I239: ='Hubspot Export'!L239 -> 0 82 32 95 940 - 51 | L239: ='Hubspot Export'!K239 -> info@wis.gmbh | M239: ='Hubspot Export'!C239 -> wis.gmbh

Sheet Hubspot Export
A1: Company ID | B1: Name | C1: Company Domain Name | D1: Partner Program | E1: Street Address | F1: Street Address 2 | G1: City | H1: State/Region | I1: Postal Code | J1: Country | K1: Public Email | L1: Phone Number | M1: Post to Website | N1: country 2 | O1: country 3 | P1: country 4 | Q1: country 5 | R1: All-IP Expert | S1: Associated Company ID | T1: Associated Company
A2: 274061206 | B2: abraxas Verlag GmbH | C2: www.braxas.de | D2: beroNet Partner | E2: Grapengiesserstrasse. 4 | G2: Lüneburg | I2: 21335 | J2: Germany | K2: info@braxas.de | L2: 04131 2 66 66 - 0 | M2: Yes
A3: 498566898 | B3: ABZ INFORMATIQUE | C3: www.abz-informatique.com | D3: beroNet Partner | E3: 5 allée des Roses | G3: Le Plessis Robinson | I3: 92350 | J3: France | L3: +33 652636003 | M3: Yes
A4: 498533158 | B4: ACENTO | C4: www.acento.pl | D4: beroNet Distributor | E4: ul. Biały Kamień 5 | G4: Warszawa | I4: 02-593 | J4: Poland | L4: +48 22 213 10 85 | M4: Yes
A5: 347429328 | B5: actBIG IT-Solutions | C5: www.actbig.de | D5: beroNet Partner | E5: Weipertstrasse, 8-10 | G5: Heilbronn | I5: 74076 | J5: Germany | K5: info@actbig.de | L5: +49 71311219889 | M5: Yes
A6: 498566456 | B6: ACTUACOM SARL | C6: www.actuacom.fr | D6: beroNet Partner | E6: 5 rue des Loches | G6: Sevrey | I6: 71100 | J6: France | L6: +33 385991907 | M6: Yes
A7: 498566436 | B7: ADD-ON CONSULTING SARL | C7: www.addon.fr | D7: beroNet Partner | E7: 9 rue du Bâtiment | G7: CLERY EN VEXIN | I7: 95420 | J7: France | L7: +33 134353693 | M7: Yes
A8: 498566884 | B8: ADECOME / STLENN INFORMATIQUE | C8: www.adecome.fr | D8: beroNet Partner | E8: 26 rue de Nambot | G8: Niort | I8: 79000 | J8: France | L8: +33 549322141 | M8: Yes
A9: 347430508 | B9: Adeo Service GmbH | C9: www.schliack.de | D9: beroNet Partner | E9: Dorstener Str. 16 | G9: Raesfeld | I9: 46348 | J9: Germany | K9: it@adeo-service.de | L9: +49 28652023250 | M9: Yes
A10: 347431473 | B10: ADN Advanced Digital Network Distribution | C10: www.adn.de | D10: beroNet Distributor | E10: Josef-Haumann-Straße 10 | G10: Bochum | I10: 44866 | J10: Germany | L10: +49 2327 9912 475 | M10: Yes
A11: 498566449 | B11: ADVANCE INFORMATIQUE ANJOU SARL | C11: www.advance-info.fr | D11: beroNet Partner | E11: 20 bd de l'Industrie | G11: Écouflant | I11: 49000 | J11: France | L11: +33 241368181 | M11: Yes
A12: 347430578 | B12: AERA TELECOM | C12: www.aeratelecom.fr | D12: beroNet Partner | E12: 320 Rue Saint Honoré | G12: Paris | I12: 75001 | J12: France | L12: +33 181800600 | M12: Yes
A13: 347430643 | B13: AFD GmbH | C13: www.afd-deutschland.de | D13: beroNet Partner | E13: Fangdieckstraße 75b | G13: Hamburg | H13: Hamburg | I13: 22547 | J13: Germany | K13: info@afd-deutschland.de | L13: +49 4085385423 | M13: Yes
A14: 498566464 | B14: AIRE TELECOM | C14: www.aire-telecom.fr | D14: beroNet Partner | E14: 12 rue de Cannes | G14: Lille | I14: 59000 | J14: France | L14: +33 320622333 | M14: Yes
A15: 498566589 | B15: Alias srl | C15: www.alias.it | D15: beroNet Distributor | E15: Via San Francesco, 2 | G15: Udine | H15: Udine | I15: 33100 | J15: Italy | L15: +39 0432 287722 | M15: Yes
A16: 498566045 | B16: ALLIANTEL | C16: www.alliantel.fr | D16: beroNet Partner | E16: 31 rue de Constantinople | G16: Paris | I16: 75008 | J16: France | K16: contact@alliantel.fr | L16: +33 176214004 | M16: Yes
A17: 498566592 | B17: ALLNET ITALIA SPA | C17: www.allnet-italia.it | D17: beroNet Distributor | E17: Via Fucini, 2 | G17: Casalecchio di Reno | H17: Bologna | I17: 40033 | J17: Italy | L17: +39 051 0547710 | M17: Yes
A18: 274061281 | B18: Alsitec - Wittkopf | C18: www.alsitec-wittkopf.de | D18: beroNet Partner | E18: Hamburger Straße 17 | G18: Kyritz | H18: BB | I18: 16866 | J18: Germany | K18: info@alsitec-wittkopf.de | L18: 033971 87043 | M18: Yes
A19: 408735594 | B19: Alt Gr SA | C19: altgrsa.ch | D19: beroNet Partner | E19: via G.Motta 10 | G19: Chiasso | I19: 6830 | J19: Switzerland | K19: info-beronet@altgrsa.ch | L19: +41 91 228 03 11 | M19: Yes | R19: Yes
A20: 353979125 | B20: AMRO Soft- & Hardware GmbH + Co. KG | C20: www.amro.de | D20: beroNet Partner | E20: Treuchtlinger Str. 1 | G20: Weißenburg i. Bayern | H20: BY | I20: 91781 | J20: Germany | L20: +49 9141 / 9019-0 | M20: Yes
A21: 498566489 | B21: ANBOLE SARL | C21: anbole.fr | D21: beroNet Partner | E21: 477 route de l'église | G21: Saint-Martin-Bellevue | I21: 74370 | J21: France | L21: +33 480806091 | M21: Yes
A22: 498566486 | B22: APE CONSEIL | C22: www.ape-conseil.com | D22: beroNet Partner | E22: 503 Avenue du 8 Mai 1945 | G22: Caluire-et-Cuire | I22: 69300 | J22: France | L22: +33 472100979 | M22: Yes
A23: 474323657 | B23: API Computerhandels GmbH | C23: www.api.de | D23: beroNet Distributor | E23: Robert-Koch-Str. 7-17 | G23: Baesweiler | H23: DE | I23: 52499 | J23: Germany | L23: +49 241 / 9170- 5080 | M23: Yes
A24: 498566458 | B24: ARA TELECOM SARL | C24: www.ara-telecom.fr | D24: beroNet Partner | E24: 1 avenue Pierre Pflimlin | G24: Sausheim | I24: 68390 | J24: France | L24: +33 389322132 | M24: Yes
A25: 353979275 | B25: AR-SYSTEMS GmbH & Co. KG | C25: ar-systems.de | D25: beroNet Partner | E25: Garbenheimer Str. 30 | G25: Wetzlar | H25: Hessen | I25: 35578 | J25: Germany | L25: (0)6441 204568-12 | M25: Yes
A26: 498566490 | B26: ARTIC / AR-TIC SARL | C26: www.ar-tic.com | D26: beroNet Partner | E26: 56B Avenue Chanoine CARTELLIER | G26: Saint-Genis-Laval | I26: 69230 | J26: France | L26: +33 481061010 | M26: Yes
A27: 498459779 | B27: ASH NetConsult GmbH | C27: www.ash-netconsult.de | D27: beroNet Partner | E27: Schützenstr. 18 | G27: Weilheim | H27: BY | I27: 82362 | J27: Germany | K27: info@ash-netconsult.de | L27: +49 881 9254810 | M27: Yes
A28: 498566420 | B28: Assutech | C28: www.assutech.com | D28: beroNet Partner | E28: 21 Boulevard Littré | G28: Le Mesnil le Roi | I28: 78600 | J28: France | K28: contact@assutech.com | L28: +33 130096890 | M28: Yes
A29: 498566465 | B29: AST INFO SARL | C29: www.astinfo.fr | D29: beroNet Partner | E29: 38 avenue de Vitry | G29: Sainte-Menehould | I29: 51800 | J29: France | L29: +33 326607539 | M29: Yes
A30: 624331087 | B30: Atena-IT | C30: www.atena-it.fr | D30: beroNet Partner | E30: 6 place des noyers | G30: Menucourt | I30: 95180 | J30: France | K30: contact@atena-it.fr | L30: +33 185383838 | M30: Yes
A31: 498717547 | B31: ATIS BVBA | C31: atistelecom.be | D31: beroNet Distributor | E31: Pegasuslaan 5 | G31: DIEGEM | I31: 1831 | J31: Belgium | K31: info@atistelecom.be | L31: 3238086201 | M31: Yes
A32: 347428378 | B32: ATIS Telecommunicatie B.V. | C32: www.atistelecom.nl | D32: beroNet Distributor | E32: Frankfurtstraat 10 | G32: Lijnden | I32: 1175 RH | J32: Netherlands | L32: +3120-358 25 10 | M32: Yes | N32: Luxembourg
A33: 498565953 | B33: AURUS TELECOM SAS | C33: www.aurustelecom.fr | D33: beroNet Partner | E33: 5 rue des Loches | G33: Sevrey | I33: 71100 | J33: France | L33: +33 385991907 | M33: Yes
A34: 347428438 | B34: Avanzada 7 S.L. | C34: www.avanzada7.com | D34: beroNet Distributor | E34: Maria Curie 20, 1° | G34: Malaga | H34: Mlaga | I34: 29590 | J34: Spain | L34: 34952028709 | M34: Yes
A35: 347432073 | B35: AVELIA | C35: avelia.net | D35: beroNet Partner | E35: 20 Rue Laugier | G35: Paris | I35: 75017 | J35: France | L35: +33 492040553 | M35: Yes
A36: 274061726 | B36: Beiren Datenservice | C36: www.beiren.de | D36: beroNet Partner | E36: Großer Wulfhagen 37 | G36: Uetersen | H36: SH | I36: 25436 | J36: Germany | K36: info@beiren.de | L36: +49 4122-901390 | M36: Yes
A37: 499138736 | B37: bitfire GmbH | C37: www.bitfire.de | D37: beroNet Partner | E37: Kissinger Str. 140 | G37: Bad Kissingen | H37: Bayern | I37: 97688 | J37: GERMANY | K37: service@bitfire.de | L37: +49 971 730170 | M37: Yes | R37: Yes
A38: 613242085 | B38: Bitstore IT-Consulting - Dallgow-Döberitz | C38: bitstore-online.de | D38: beroNet Partner | E38: Kieler Strasse 20 | G38: Dallgow-Döberitz | H38: Berlin | I38: 14624 | J38: Germany | K38: info@bitstore-online.de | L38: +49 3322 507 020 | M38: Yes
A39: 613436230 | B39: Bitstore IT-Consulting - Kloster Lehnin | C39: bitstore-online.de | D39: beroNet Partner | E39: Am Klostersteig 16 | G39: Kloster Lehnin | H39: Berlin | I39: 14797 | J39: Germany | K39: info@bitstore-online.de | L39: +49 33207 566 530 | M39: Yes
A40: 613239805 | B40: Bitstore IT-Consulting - Lentzke | C40: bitstore-online.de | D40: beroNet Partner | E40: Brunnerstrasse 21 | G40: Lentzke | H40: Berlin | I40: 16833 | J40: Germany | K40: info@bitstore-online.de | L40: +49 33932 770 00 | M40: Yes
...

Sheet Country Map
A1: Website | B1: Hubspot
A2: AU | B2: Australia
A3: AT | B3: Austria
A4: BE | B4: Belgium
A5: CZ | B5: Czech Republic
A6: FR | B6: France
A7: DE | B7: Germany
A8: DE | B8: GERMANY
A9: GR | B9: Greece
A10: IN | B10: India
A11: IE | B11: Ireland
A12: IT | B12: Italy
... A31: US | B31: USA
